BEGIN:VCALENDAR
VERSION:2.0
PRODID:icalendar-ruby
CALSCALE:GREGORIAN
METHOD:PUBLISH
BEGIN:VEVENT
DTSTAMP:20260420T211731Z
UID:10-474692@gdlcanc.org
DTSTART:20260913T173000Z
DTEND:20260913T184500Z
CLASS:PUBLIC
CREATED:20260420T113736
DESCRIPTION:Join us in person or on YouTube.
LAST-MODIFIED:20260420T113736
LOCATION:Gloria Dei Lutheran Church
SUMMARY:Worship with Holy Communion
URL;VALUE=URI:https://www.gdlcanc.org/events/worship-with-holy-communion/20
 26-09-13
ATTACH;FILENAME=Font-2.jpg;FMTTYPE=image/jpeg:https://dq5pwpg1q8ru0.cloudfr
 ont.net/2024/03/08/21/42/45/c347756c-9a36-44bc-953c-d3ccc561fa5b/Font-2.jp
 g
END:VEVENT
END:VCALENDAR
